BEGIN:VCALENDAR
VERSION:2.0
PRODID:-//North Lyon County Library Dist. #1 - ECPv6.15.20//NONSGML v1.0//EN
CALSCALE:GREGORIAN
METHOD:PUBLISH
X-ORIGINAL-URL:https://lyoncounty.lib.nckls.org
X-WR-CALDESC:Events for North Lyon County Library Dist. #1
REFRESH-INTERVAL;VALUE=DURATION:PT1H
X-Robots-Tag:noindex
X-PUBLISHED-TTL:PT1H
BEGIN:VTIMEZONE
TZID:America/Chicago
BEGIN:DAYLIGHT
TZOFFSETFROM:-0600
TZOFFSETTO:-0500
TZNAME:CDT
DTSTART:20250309T080000
END:DAYLIGHT
BEGIN:STANDARD
TZOFFSETFROM:-0500
TZOFFSETTO:-0600
TZNAME:CST
DTSTART:20251102T070000
END:STANDARD
BEGIN:DAYLIGHT
TZOFFSETFROM:-0600
TZOFFSETTO:-0500
TZNAME:CDT
DTSTART:20260308T080000
END:DAYLIGHT
BEGIN:STANDARD
TZOFFSETFROM:-0500
TZOFFSETTO:-0600
TZNAME:CST
DTSTART:20261101T070000
END:STANDARD
BEGIN:DAYLIGHT
TZOFFSETFROM:-0600
TZOFFSETTO:-0500
TZNAME:CDT
DTSTART:20270314T080000
END:DAYLIGHT
BEGIN:STANDARD
TZOFFSETFROM:-0500
TZOFFSETTO:-0600
TZNAME:CST
DTSTART:20271107T070000
END:STANDARD
END:VTIMEZONE
BEGIN:VEVENT
DTSTART;TZID=America/Chicago:20260601T130000
DTEND;TZID=America/Chicago:20260601T170000
DTSTAMP:20260425T161249
CREATED:20260107T155655Z
LAST-MODIFIED:20260115T162657Z
UID:10000557-1780318800-1780333200@lyoncounty.lib.nckls.org
SUMMARY:Popcorn - Every Monday afternoon
DESCRIPTION:Come inside for popcorn as you read or checkout materials.
URL:https://lyoncounty.lib.nckls.org/event/popcorn/2026-06-01/
CATEGORIES:Popcorn
ATTACH;FMTTYPE=image/webp:https://lyoncounty.lib.nckls.org/wp-content/uploads/sites/32/2025/11/popcorn-1178242_640.webp
END:VEVENT
BEGIN:VEVENT
DTSTART;TZID=America/Chicago:20260608T130000
DTEND;TZID=America/Chicago:20260608T170000
DTSTAMP:20260425T161249
CREATED:20260107T155655Z
LAST-MODIFIED:20260115T162657Z
UID:10000558-1780923600-1780938000@lyoncounty.lib.nckls.org
SUMMARY:Popcorn - Every Monday afternoon
DESCRIPTION:Come inside for popcorn as you read or checkout materials.
URL:https://lyoncounty.lib.nckls.org/event/popcorn/2026-06-08/
CATEGORIES:Popcorn
ATTACH;FMTTYPE=image/webp:https://lyoncounty.lib.nckls.org/wp-content/uploads/sites/32/2025/11/popcorn-1178242_640.webp
END:VEVENT
BEGIN:VEVENT
DTSTART;TZID=America/Chicago:20260615T130000
DTEND;TZID=America/Chicago:20260615T170000
DTSTAMP:20260425T161249
CREATED:20260107T155655Z
LAST-MODIFIED:20260115T162657Z
UID:10000559-1781528400-1781542800@lyoncounty.lib.nckls.org
SUMMARY:Popcorn - Every Monday afternoon
DESCRIPTION:Come inside for popcorn as you read or checkout materials.
URL:https://lyoncounty.lib.nckls.org/event/popcorn/2026-06-15/
CATEGORIES:Popcorn
ATTACH;FMTTYPE=image/webp:https://lyoncounty.lib.nckls.org/wp-content/uploads/sites/32/2025/11/popcorn-1178242_640.webp
END:VEVENT
BEGIN:VEVENT
DTSTART;TZID=America/Chicago:20260622T130000
DTEND;TZID=America/Chicago:20260622T170000
DTSTAMP:20260425T161249
CREATED:20260107T155655Z
LAST-MODIFIED:20260115T162657Z
UID:10000560-1782133200-1782147600@lyoncounty.lib.nckls.org
SUMMARY:Popcorn - Every Monday afternoon
DESCRIPTION:Come inside for popcorn as you read or checkout materials.
URL:https://lyoncounty.lib.nckls.org/event/popcorn/2026-06-22/
CATEGORIES:Popcorn
ATTACH;FMTTYPE=image/webp:https://lyoncounty.lib.nckls.org/wp-content/uploads/sites/32/2025/11/popcorn-1178242_640.webp
END:VEVENT
BEGIN:VEVENT
DTSTART;TZID=America/Chicago:20260629T130000
DTEND;TZID=America/Chicago:20260629T170000
DTSTAMP:20260425T161249
CREATED:20260107T155655Z
LAST-MODIFIED:20260115T162657Z
UID:10000561-1782738000-1782752400@lyoncounty.lib.nckls.org
SUMMARY:Popcorn - Every Monday afternoon
DESCRIPTION:Come inside for popcorn as you read or checkout materials.
URL:https://lyoncounty.lib.nckls.org/event/popcorn/2026-06-29/
CATEGORIES:Popcorn
ATTACH;FMTTYPE=image/webp:https://lyoncounty.lib.nckls.org/wp-content/uploads/sites/32/2025/11/popcorn-1178242_640.webp
END:VEVENT
END:VCALENDAR