BEGIN:VCALENDAR
VERSION:2.0
PRODID:-//North Lyon County Library Dist. #1 - ECPv6.15.20//NONSGML v1.0//EN
CALSCALE:GREGORIAN
METHOD:PUBLISH
X-WR-CALNAME:North Lyon County Library Dist. #1
X-ORIGINAL-URL:https://lyoncounty.lib.nckls.org
X-WR-CALDESC:Events for North Lyon County Library Dist. #1
REFRESH-INTERVAL;VALUE=DURATION:PT1H
X-Robots-Tag:noindex
X-PUBLISHED-TTL:PT1H
BEGIN:VTIMEZONE
TZID:America/Chicago
BEGIN:DAYLIGHT
TZOFFSETFROM:-0600
TZOFFSETTO:-0500
TZNAME:CDT
DTSTART:20240310T080000
END:DAYLIGHT
BEGIN:STANDARD
TZOFFSETFROM:-0500
TZOFFSETTO:-0600
TZNAME:CST
DTSTART:20241103T070000
END:STANDARD
BEGIN:DAYLIGHT
TZOFFSETFROM:-0600
TZOFFSETTO:-0500
TZNAME:CDT
DTSTART:20250309T080000
END:DAYLIGHT
BEGIN:STANDARD
TZOFFSETFROM:-0500
TZOFFSETTO:-0600
TZNAME:CST
DTSTART:20251102T070000
END:STANDARD
BEGIN:DAYLIGHT
TZOFFSETFROM:-0600
TZOFFSETTO:-0500
TZNAME:CDT
DTSTART:20260308T080000
END:DAYLIGHT
BEGIN:STANDARD
TZOFFSETFROM:-0500
TZOFFSETTO:-0600
TZNAME:CST
DTSTART:20261101T070000
END:STANDARD
BEGIN:DAYLIGHT
TZOFFSETFROM:-0600
TZOFFSETTO:-0500
TZNAME:CDT
DTSTART:20270314T080000
END:DAYLIGHT
BEGIN:STANDARD
TZOFFSETFROM:-0500
TZOFFSETTO:-0600
TZNAME:CST
DTSTART:20271107T070000
END:STANDARD
END:VTIMEZONE
BEGIN:VEVENT
DTSTART;TZID=America/Chicago:20260323T130000
DTEND;TZID=America/Chicago:20260323T170000
DTSTAMP:20260425T180441
CREATED:20260107T155655Z
LAST-MODIFIED:20260115T162657Z
UID:10000547-1774270800-1774285200@lyoncounty.lib.nckls.org
SUMMARY:Popcorn - Every Monday afternoon
DESCRIPTION:Come inside for popcorn as you read or checkout materials.
URL:https://lyoncounty.lib.nckls.org/event/popcorn/2026-03-23/
CATEGORIES:Popcorn
ATTACH;FMTTYPE=image/webp:https://lyoncounty.lib.nckls.org/wp-content/uploads/sites/32/2025/11/popcorn-1178242_640.webp
END:VEVENT
BEGIN:VEVENT
DTSTART;TZID=America/Chicago:20260316T130000
DTEND;TZID=America/Chicago:20260316T170000
DTSTAMP:20260425T180441
CREATED:20260107T155655Z
LAST-MODIFIED:20260115T162657Z
UID:10000546-1773666000-1773680400@lyoncounty.lib.nckls.org
SUMMARY:Popcorn - Every Monday afternoon
DESCRIPTION:Come inside for popcorn as you read or checkout materials.
URL:https://lyoncounty.lib.nckls.org/event/popcorn/2026-03-16/
CATEGORIES:Popcorn
ATTACH;FMTTYPE=image/webp:https://lyoncounty.lib.nckls.org/wp-content/uploads/sites/32/2025/11/popcorn-1178242_640.webp
END:VEVENT
BEGIN:VEVENT
DTSTART;TZID=America/Chicago:20260309T130000
DTEND;TZID=America/Chicago:20260309T170000
DTSTAMP:20260425T180441
CREATED:20260107T155655Z
LAST-MODIFIED:20260115T162657Z
UID:10000545-1773061200-1773075600@lyoncounty.lib.nckls.org
SUMMARY:Popcorn - Every Monday afternoon
DESCRIPTION:Come inside for popcorn as you read or checkout materials.
URL:https://lyoncounty.lib.nckls.org/event/popcorn/2026-03-09/
CATEGORIES:Popcorn
ATTACH;FMTTYPE=image/webp:https://lyoncounty.lib.nckls.org/wp-content/uploads/sites/32/2025/11/popcorn-1178242_640.webp
END:VEVENT
BEGIN:VEVENT
DTSTART;TZID=America/Chicago:20260303T190000
DTEND;TZID=America/Chicago:20260303T200000
DTSTAMP:20260425T180441
CREATED:20260102T165109Z
LAST-MODIFIED:20260212T194108Z
UID:10000535-1772564400-1772568000@lyoncounty.lib.nckls.org
SUMMARY:Board of Trustees Meeting
DESCRIPTION:North Lyon County Library Dist #1 Board of Trustees Meeting.
URL:https://lyoncounty.lib.nckls.org/event/board-of-trustees-meeting/
ATTACH;FMTTYPE=image/webp:https://lyoncounty.lib.nckls.org/wp-content/uploads/sites/32/2026/01/Board-of-Trustees-1.webp
END:VEVENT
BEGIN:VEVENT
DTSTART;TZID=America/Chicago:20260302T130000
DTEND;TZID=America/Chicago:20260302T170000
DTSTAMP:20260425T180441
CREATED:20260107T155655Z
LAST-MODIFIED:20260115T162657Z
UID:10000544-1772456400-1772470800@lyoncounty.lib.nckls.org
SUMMARY:Popcorn - Every Monday afternoon
DESCRIPTION:Come inside for popcorn as you read or checkout materials.
URL:https://lyoncounty.lib.nckls.org/event/popcorn/2026-03-02/
CATEGORIES:Popcorn
ATTACH;FMTTYPE=image/webp:https://lyoncounty.lib.nckls.org/wp-content/uploads/sites/32/2025/11/popcorn-1178242_640.webp
END:VEVENT
BEGIN:VEVENT
DTSTART;TZID=America/Chicago:20260223T130000
DTEND;TZID=America/Chicago:20260223T170000
DTSTAMP:20260425T180441
CREATED:20260107T155655Z
LAST-MODIFIED:20260115T162657Z
UID:10000543-1771851600-1771866000@lyoncounty.lib.nckls.org
SUMMARY:Popcorn - Every Monday afternoon
DESCRIPTION:Come inside for popcorn as you read or checkout materials.
URL:https://lyoncounty.lib.nckls.org/event/popcorn/2026-02-23/
CATEGORIES:Popcorn
ATTACH;FMTTYPE=image/webp:https://lyoncounty.lib.nckls.org/wp-content/uploads/sites/32/2025/11/popcorn-1178242_640.webp
END:VEVENT
BEGIN:VEVENT
DTSTART;TZID=America/Chicago:20260216T130000
DTEND;TZID=America/Chicago:20260216T170000
DTSTAMP:20260425T180441
CREATED:20260107T155655Z
LAST-MODIFIED:20260115T162657Z
UID:10000542-1771246800-1771261200@lyoncounty.lib.nckls.org
SUMMARY:Popcorn - Every Monday afternoon
DESCRIPTION:Come inside for popcorn as you read or checkout materials.
URL:https://lyoncounty.lib.nckls.org/event/popcorn/2026-02-16/
CATEGORIES:Popcorn
ATTACH;FMTTYPE=image/webp:https://lyoncounty.lib.nckls.org/wp-content/uploads/sites/32/2025/11/popcorn-1178242_640.webp
END:VEVENT
BEGIN:VEVENT
DTSTART;TZID=America/Chicago:20260209T130000
DTEND;TZID=America/Chicago:20260209T170000
DTSTAMP:20260425T180441
CREATED:20260107T155655Z
LAST-MODIFIED:20260115T162657Z
UID:10000541-1770642000-1770656400@lyoncounty.lib.nckls.org
SUMMARY:Popcorn - Every Monday afternoon
DESCRIPTION:Come inside for popcorn as you read or checkout materials.
URL:https://lyoncounty.lib.nckls.org/event/popcorn/2026-02-09/
CATEGORIES:Popcorn
ATTACH;FMTTYPE=image/webp:https://lyoncounty.lib.nckls.org/wp-content/uploads/sites/32/2025/11/popcorn-1178242_640.webp
END:VEVENT
BEGIN:VEVENT
DTSTART;TZID=America/Chicago:20260202T130000
DTEND;TZID=America/Chicago:20260202T170000
DTSTAMP:20260425T180441
CREATED:20260107T155655Z
LAST-MODIFIED:20260115T162657Z
UID:10000540-1770037200-1770051600@lyoncounty.lib.nckls.org
SUMMARY:Popcorn - Every Monday afternoon
DESCRIPTION:Come inside for popcorn as you read or checkout materials.
URL:https://lyoncounty.lib.nckls.org/event/popcorn/2026-02-02/
CATEGORIES:Popcorn
ATTACH;FMTTYPE=image/webp:https://lyoncounty.lib.nckls.org/wp-content/uploads/sites/32/2025/11/popcorn-1178242_640.webp
END:VEVENT
BEGIN:VEVENT
DTSTART;TZID=America/Chicago:20260126T130000
DTEND;TZID=America/Chicago:20260126T170000
DTSTAMP:20260425T180441
CREATED:20260107T155655Z
LAST-MODIFIED:20260115T162657Z
UID:10000539-1769432400-1769446800@lyoncounty.lib.nckls.org
SUMMARY:Popcorn - Every Monday afternoon
DESCRIPTION:Come inside for popcorn as you read or checkout materials.
URL:https://lyoncounty.lib.nckls.org/event/popcorn/2026-01-26/
CATEGORIES:Popcorn
ATTACH;FMTTYPE=image/webp:https://lyoncounty.lib.nckls.org/wp-content/uploads/sites/32/2025/11/popcorn-1178242_640.webp
END:VEVENT
BEGIN:VEVENT
DTSTART;TZID=America/Chicago:20260119T130000
DTEND;TZID=America/Chicago:20260119T170000
DTSTAMP:20260425T180441
CREATED:20260107T155655Z
LAST-MODIFIED:20260115T162657Z
UID:10000538-1768827600-1768842000@lyoncounty.lib.nckls.org
SUMMARY:Popcorn - Every Monday afternoon
DESCRIPTION:Come inside for popcorn as you read or checkout materials.
URL:https://lyoncounty.lib.nckls.org/event/popcorn/2026-01-19/
CATEGORIES:Popcorn
ATTACH;FMTTYPE=image/webp:https://lyoncounty.lib.nckls.org/wp-content/uploads/sites/32/2025/11/popcorn-1178242_640.webp
END:VEVENT
BEGIN:VEVENT
DTSTART;TZID=America/Chicago:20260112T130000
DTEND;TZID=America/Chicago:20260112T170000
DTSTAMP:20260425T180441
CREATED:20260107T155655Z
LAST-MODIFIED:20260115T162657Z
UID:10000537-1768222800-1768237200@lyoncounty.lib.nckls.org
SUMMARY:Popcorn - Every Monday afternoon
DESCRIPTION:Come inside for popcorn as you read or checkout materials.
URL:https://lyoncounty.lib.nckls.org/event/popcorn/2026-01-12/
CATEGORIES:Popcorn
ATTACH;FMTTYPE=image/webp:https://lyoncounty.lib.nckls.org/wp-content/uploads/sites/32/2025/11/popcorn-1178242_640.webp
END:VEVENT
BEGIN:VEVENT
DTSTART;TZID=America/Chicago:20251126T100000
DTEND;TZID=America/Chicago:20260122T110000
DTSTAMP:20260425T180441
CREATED:20251120T165730Z
LAST-MODIFIED:20260115T162725Z
UID:10000264-1764151200-1769079600@lyoncounty.lib.nckls.org
SUMMARY:Story Time
DESCRIPTION:
URL:https://lyoncounty.lib.nckls.org/event/story-time/
CATEGORIES:Story Time
END:VEVENT
END:VCALENDAR