BEGIN:VCALENDAR
VERSION:2.0
PRODID:-//North Lyon County Library Dist. #1 - ECPv6.15.20//NONSGML v1.0//EN
CALSCALE:GREGORIAN
METHOD:PUBLISH
X-ORIGINAL-URL:https://lyoncounty.lib.nckls.org
X-WR-CALDESC:Events for North Lyon County Library Dist. #1
REFRESH-INTERVAL;VALUE=DURATION:PT1H
X-Robots-Tag:noindex
X-PUBLISHED-TTL:PT1H
BEGIN:VTIMEZONE
TZID:America/Chicago
BEGIN:DAYLIGHT
TZOFFSETFROM:-0600
TZOFFSETTO:-0500
TZNAME:CDT
DTSTART:20260308T080000
END:DAYLIGHT
BEGIN:STANDARD
TZOFFSETFROM:-0500
TZOFFSETTO:-0600
TZNAME:CST
DTSTART:20261101T070000
END:STANDARD
BEGIN:DAYLIGHT
TZOFFSETFROM:-0600
TZOFFSETTO:-0500
TZNAME:CDT
DTSTART:20270314T080000
END:DAYLIGHT
BEGIN:STANDARD
TZOFFSETFROM:-0500
TZOFFSETTO:-0600
TZNAME:CST
DTSTART:20271107T070000
END:STANDARD
BEGIN:DAYLIGHT
TZOFFSETFROM:-0600
TZOFFSETTO:-0500
TZNAME:CDT
DTSTART:20280312T080000
END:DAYLIGHT
BEGIN:STANDARD
TZOFFSETFROM:-0500
TZOFFSETTO:-0600
TZNAME:CST
DTSTART:20281105T070000
END:STANDARD
END:VTIMEZONE
BEGIN:VEVENT
DTSTART;TZID=America/Chicago:20270104T130000
DTEND;TZID=America/Chicago:20270104T170000
DTSTAMP:20260425T130731
CREATED:20260107T155655Z
LAST-MODIFIED:20260115T162657Z
UID:10000588-1799067600-1799082000@lyoncounty.lib.nckls.org
SUMMARY:Popcorn - Every Monday afternoon
DESCRIPTION:Come inside for popcorn as you read or checkout materials.
URL:https://lyoncounty.lib.nckls.org/event/popcorn/2027-01-04/
CATEGORIES:Popcorn
ATTACH;FMTTYPE=image/webp:https://lyoncounty.lib.nckls.org/wp-content/uploads/sites/32/2025/11/popcorn-1178242_640.webp
END:VEVENT
BEGIN:VEVENT
DTSTART;TZID=America/Chicago:20270111T130000
DTEND;TZID=America/Chicago:20270111T170000
DTSTAMP:20260425T130731
CREATED:20260107T155655Z
LAST-MODIFIED:20260115T162657Z
UID:10000589-1799672400-1799686800@lyoncounty.lib.nckls.org
SUMMARY:Popcorn - Every Monday afternoon
DESCRIPTION:Come inside for popcorn as you read or checkout materials.
URL:https://lyoncounty.lib.nckls.org/event/popcorn/2027-01-11/
CATEGORIES:Popcorn
ATTACH;FMTTYPE=image/webp:https://lyoncounty.lib.nckls.org/wp-content/uploads/sites/32/2025/11/popcorn-1178242_640.webp
END:VEVENT
BEGIN:VEVENT
DTSTART;TZID=America/Chicago:20270118T130000
DTEND;TZID=America/Chicago:20270118T170000
DTSTAMP:20260425T130731
CREATED:20260107T155655Z
LAST-MODIFIED:20260115T162657Z
UID:10000590-1800277200-1800291600@lyoncounty.lib.nckls.org
SUMMARY:Popcorn - Every Monday afternoon
DESCRIPTION:Come inside for popcorn as you read or checkout materials.
URL:https://lyoncounty.lib.nckls.org/event/popcorn/2027-01-18/
CATEGORIES:Popcorn
ATTACH;FMTTYPE=image/webp:https://lyoncounty.lib.nckls.org/wp-content/uploads/sites/32/2025/11/popcorn-1178242_640.webp
END:VEVENT
BEGIN:VEVENT
DTSTART;TZID=America/Chicago:20270125T130000
DTEND;TZID=America/Chicago:20270125T170000
DTSTAMP:20260425T130731
CREATED:20260107T155655Z
LAST-MODIFIED:20260115T162657Z
UID:10000591-1800882000-1800896400@lyoncounty.lib.nckls.org
SUMMARY:Popcorn - Every Monday afternoon
DESCRIPTION:Come inside for popcorn as you read or checkout materials.
URL:https://lyoncounty.lib.nckls.org/event/popcorn/2027-01-25/
CATEGORIES:Popcorn
ATTACH;FMTTYPE=image/webp:https://lyoncounty.lib.nckls.org/wp-content/uploads/sites/32/2025/11/popcorn-1178242_640.webp
END:VEVENT
BEGIN:VEVENT
DTSTART;TZID=America/Chicago:20270201T130000
DTEND;TZID=America/Chicago:20270201T170000
DTSTAMP:20260425T130731
CREATED:20260107T155655Z
LAST-MODIFIED:20260115T162657Z
UID:10000592-1801486800-1801501200@lyoncounty.lib.nckls.org
SUMMARY:Popcorn - Every Monday afternoon
DESCRIPTION:Come inside for popcorn as you read or checkout materials.
URL:https://lyoncounty.lib.nckls.org/event/popcorn/2027-02-01/
CATEGORIES:Popcorn
ATTACH;FMTTYPE=image/webp:https://lyoncounty.lib.nckls.org/wp-content/uploads/sites/32/2025/11/popcorn-1178242_640.webp
END:VEVENT
BEGIN:VEVENT
DTSTART;TZID=America/Chicago:20270208T130000
DTEND;TZID=America/Chicago:20270208T170000
DTSTAMP:20260425T130731
CREATED:20260107T155655Z
LAST-MODIFIED:20260115T162657Z
UID:10000593-1802091600-1802106000@lyoncounty.lib.nckls.org
SUMMARY:Popcorn - Every Monday afternoon
DESCRIPTION:Come inside for popcorn as you read or checkout materials.
URL:https://lyoncounty.lib.nckls.org/event/popcorn/2027-02-08/
CATEGORIES:Popcorn
ATTACH;FMTTYPE=image/webp:https://lyoncounty.lib.nckls.org/wp-content/uploads/sites/32/2025/11/popcorn-1178242_640.webp
END:VEVENT
BEGIN:VEVENT
DTSTART;TZID=America/Chicago:20270215T130000
DTEND;TZID=America/Chicago:20270215T170000
DTSTAMP:20260425T130732
CREATED:20260107T155655Z
LAST-MODIFIED:20260115T162657Z
UID:10000594-1802696400-1802710800@lyoncounty.lib.nckls.org
SUMMARY:Popcorn - Every Monday afternoon
DESCRIPTION:Come inside for popcorn as you read or checkout materials.
URL:https://lyoncounty.lib.nckls.org/event/popcorn/2027-02-15/
CATEGORIES:Popcorn
ATTACH;FMTTYPE=image/webp:https://lyoncounty.lib.nckls.org/wp-content/uploads/sites/32/2025/11/popcorn-1178242_640.webp
END:VEVENT
BEGIN:VEVENT
DTSTART;TZID=America/Chicago:20270222T130000
DTEND;TZID=America/Chicago:20270222T170000
DTSTAMP:20260425T130732
CREATED:20260107T155655Z
LAST-MODIFIED:20260115T162657Z
UID:10000595-1803301200-1803315600@lyoncounty.lib.nckls.org
SUMMARY:Popcorn - Every Monday afternoon
DESCRIPTION:Come inside for popcorn as you read or checkout materials.
URL:https://lyoncounty.lib.nckls.org/event/popcorn/2027-02-22/
CATEGORIES:Popcorn
ATTACH;FMTTYPE=image/webp:https://lyoncounty.lib.nckls.org/wp-content/uploads/sites/32/2025/11/popcorn-1178242_640.webp
END:VEVENT
BEGIN:VEVENT
DTSTART;TZID=America/Chicago:20270301T130000
DTEND;TZID=America/Chicago:20270301T170000
DTSTAMP:20260425T130732
CREATED:20260107T155655Z
LAST-MODIFIED:20260115T162657Z
UID:10000596-1803906000-1803920400@lyoncounty.lib.nckls.org
SUMMARY:Popcorn - Every Monday afternoon
DESCRIPTION:Come inside for popcorn as you read or checkout materials.
URL:https://lyoncounty.lib.nckls.org/event/popcorn/2027-03-01/
CATEGORIES:Popcorn
ATTACH;FMTTYPE=image/webp:https://lyoncounty.lib.nckls.org/wp-content/uploads/sites/32/2025/11/popcorn-1178242_640.webp
END:VEVENT
BEGIN:VEVENT
DTSTART;TZID=America/Chicago:20270308T130000
DTEND;TZID=America/Chicago:20270308T170000
DTSTAMP:20260425T130732
CREATED:20260107T155655Z
LAST-MODIFIED:20260115T162657Z
UID:10000597-1804510800-1804525200@lyoncounty.lib.nckls.org
SUMMARY:Popcorn - Every Monday afternoon
DESCRIPTION:Come inside for popcorn as you read or checkout materials.
URL:https://lyoncounty.lib.nckls.org/event/popcorn/2027-03-08/
CATEGORIES:Popcorn
ATTACH;FMTTYPE=image/webp:https://lyoncounty.lib.nckls.org/wp-content/uploads/sites/32/2025/11/popcorn-1178242_640.webp
END:VEVENT
BEGIN:VEVENT
DTSTART;TZID=America/Chicago:20270315T130000
DTEND;TZID=America/Chicago:20270315T170000
DTSTAMP:20260425T130732
CREATED:20260107T155655Z
LAST-MODIFIED:20260115T162657Z
UID:10000598-1805115600-1805130000@lyoncounty.lib.nckls.org
SUMMARY:Popcorn - Every Monday afternoon
DESCRIPTION:Come inside for popcorn as you read or checkout materials.
URL:https://lyoncounty.lib.nckls.org/event/popcorn/2027-03-15/
CATEGORIES:Popcorn
ATTACH;FMTTYPE=image/webp:https://lyoncounty.lib.nckls.org/wp-content/uploads/sites/32/2025/11/popcorn-1178242_640.webp
END:VEVENT
END:VCALENDAR